BEGIN:VCALENDAR
VERSION:2.0
PRODID:-//Sabre//Sabre VObject 4.5.8//EN
CALSCALE:GREGORIAN
METHOD:PUBLISH
BEGIN:VEVENT
UID:sabre-vobject-af672f66-029a-485f-bd5e-0a7316a64ae2
DTSTAMP:20260420T082836Z
SUMMARY:Rob Kitchin: Wegweiser für die intelligente Stadt
DESCRIPTION:Die Vision einer intelligenten Stadt verspricht effiziente Verw
 altung\, verbesserte Lebensqualität für Einwohner*innen sowie einen wich
 tigen Beitrag zur Nachhaltigkeit. Doch welche Logik und welche Ideale steh
 en hinter diesen Versprechen und Erwartungen? Welche Gefahren entstehen\, 
 wenn die Stadtplanung von Technologien und Daten bestimmt wird?In seinem V
 ortrag geht Rob Kitchin daher auf eine Reihe von politischen und normative
 n Fragen im Zusammenhang mit sogenannten “Smart Cities” ein. Er erört
 ert dabei ethische Werte und Grundsätze\, die bestimmen\, welche Art von 
 städtischer Umgebung wir erschaffen. In seinem Vortrag geht er der Frage 
 nach\, wie ein gleichberechtigter Zugang zu Technologien und Entscheidungs
 prozessen gewährleistet und soziale Gerechtigkeit und Handlungsfähigkeit
  für alle Bürger*innen gefördert werden können. Außerdem zeigt er\, w
 ie diese Anliegen in intelligenten Städten weltweit konzipiert und umgese
 tzt werden. Wie unterscheiden sich diese Modelle und Visionen im internati
 onalen Vergleich\, zum Beispiel zwischen asiatischen und europäischen Lä
 ndern? Der letzte Teil des Vortrags befasst sich mit dem “Recht auf die 
 intelligente Stadt” und der “Dezentrierung der intelligenten Stadt”.
  Wie können diese Konzepte genutzt werden\, um Städte zu schaffen\, die 
 den menschlichen Bedürfnissen wirklich Vorrang einräumen?
DTSTART;TZID=Europe/Berlin:20240514T190000
DTEND;TZID=Europe/Berlin:20240514T203000
LOCATION:Französische Straße 9 \, Berlin (Deutschland) 
BEGIN:VALARM
ACTION:DISPLAY
DESCRIPTION:Rob Kitchin: Wegweiser für die intelligente Stadt
TRIGGER:-PT30M
END:VALARM
END:VEVENT
END:VCALENDAR
