BEGIN:VCALENDAR
VERSION:2.0
PRODID:-//Sabre//Sabre VObject 4.5.8//EN
CALSCALE:GREGORIAN
METHOD:PUBLISH
BEGIN:VEVENT
UID:sabre-vobject-7feaf2c2-1a12-4a19-b12a-d3084be9e076
DTSTAMP:20260425T104013Z
SUMMARY:Saving America's Cities
DESCRIPTION:Lizabeth Cohen - Saving America's Cities: Ed Logue and the Stru
 ggle to Renew Urban America in the Suburban Age — in conversation with E
 . J. Dionne Focusing on the life and work of Edward J. Logue (1921-2000)\,
  an urban planner\, public administrator\, and lawyer\, Cohen’s new book
  surveys the boom of government-sponsored urban renewal in the post-war de
 cades. An advocate of large-scale projects like his contemporary and rival
 \, Robert Moses\, Logue worked to revive New Haven\, designed New Boston a
 round a restored Government Center and Faneuil Hall-Quincy Market\, and\, 
 as head of New York State’s Urban Development Corporation\, rebuilt Roos
 evelt Island. Highlighting both the successes and troubling legacy of Logu
 e’s work\, Cohen\, a Harvard professor and award-winning author of Makin
 g a New Deal and A Consumers' Republic\, illuminates the complicated histo
 ry of today’s gentrification issues. Cohen will be in conversation with 
 E.J. Dionne\, Washington Post op-ed columnist.
DTSTART;TZID=Europe/Berlin:20191103T170000
DTEND;TZID=Europe/Berlin:20191103T180000
LOCATION:5015 Connecticut Avenue NW \, Washington\, D.C. (Vereinigte Staate
 n von Amerika) 
BEGIN:VALARM
ACTION:DISPLAY
DESCRIPTION:Saving America's Cities
TRIGGER:-PT30M
END:VALARM
END:VEVENT
END:VCALENDAR
