BEGIN:VCALENDAR
VERSION:2.0
PRODID:-//Sabre//Sabre VObject 4.5.8//EN
CALSCALE:GREGORIAN
METHOD:PUBLISH
BEGIN:VEVENT
UID:sabre-vobject-1b898bac-3b57-4c09-84b2-9a70c61bab0d
DTSTAMP:20260424T030211Z
SUMMARY:The Politics of Difference: Race\, Technology\, and Inclusion
DESCRIPTION:The Technology and Social Change Research Project and the Initi
 ative for Institutional Anti-Racism and Accountability – both core resea
 rch projects at the Shorenstein Center – recently co-sponsored an event 
 at the IOP JFK Jr. Forum on “The Politics of Difference: Race\, Technolo
 gy\, and Inclusion.”Panelists included: Prof. Khalil Gibran Muhammad\, f
 aculty director of the Initiative for Institutional Anti-Racism and Accoun
 tability and Professor of History\, Race\, and Public Policy at the Kenned
 y SchoolProf. Ruha Benjamin\, Associate Professor of African American Stud
 ies at Princeton UniversityLatoya Peterson\, journalist\, digital media co
 nsultant\, co-founder of Racialicious\, and current Director of Culture at
  Glow Up GamesModerator: Dr. Joan Donovan\, Research Director of the Techn
 ology and Social Change Research Project
DTSTART;TZID=Europe/Berlin:20191007T110000
DTEND;TZID=Europe/Berlin:20191007T123000
LOCATION:124 Mount Auburn Street \, Cambridge (United States of America) 
BEGIN:VALARM
ACTION:DISPLAY
DESCRIPTION:The Politics of Difference: Race\, Technology\, and Inclusion
TRIGGER:-PT30M
END:VALARM
END:VEVENT
END:VCALENDAR
