BEGIN:VCALENDAR
VERSION:2.0
PRODID:-//Sabre//Sabre VObject 4.5.8//EN
CALSCALE:GREGORIAN
METHOD:PUBLISH
BEGIN:VEVENT
UID:sabre-vobject-9e119a3b-6f4c-440b-a2e8-4afd84b3e60f
DTSTAMP:20260424T024917Z
SUMMARY:Women in Law 2018
DESCRIPTION:We invite you to learn more about Kirkland & Ellis\, one of the
  leading global law firms. Meet our team of dynamic women attorneys who wi
 ll introduce you to the Kirkland spirit and discover our strong commitment
  to the advancement of women in law.\n\nSue Flood\, an award-winning wildl
 ife photographer\, film producer and expedition leader\, will inspire and 
 motivate us with her fascinating workshop “My adventures as a wildlife p
 hotographer from the North to the South Pole and in-between. How I pursued
  my dream job in a male-dominated profession”.\n\nThe event will conclud
 e with drinks and dinner\, socializing and networking.\n\nWe look forward 
 to receiving applications from advanced law students\, legal trainees and 
 recent graduates. Please send your application including CV (German or Eng
 lish)\, key word “Women in Law”\, to karriere@kirkland.com.\n\nHotel a
 ccommodation from Friday to Saturday will be arranged and travel expenses 
 will be reimbursed. For questions please contact Katharina Netzle at +49 8
 9 2030 6079.\n\nApplications close on 19 October 2018.
DTSTART;TZID=Europe/Berlin:20181116T130000
DTEND;TZID=Europe/Berlin:20181116T000000
LOCATION:Maximilianstraße 11 \, München (Deutschland) 
BEGIN:VALARM
ACTION:DISPLAY
DESCRIPTION:Women in Law 2018
TRIGGER:-PT30M
END:VALARM
END:VEVENT
END:VCALENDAR
