BEGIN:VCALENDAR
VERSION:2.0
PRODID:-//Sabre//Sabre VObject 4.5.8//EN
CALSCALE:GREGORIAN
METHOD:PUBLISH
BEGIN:VEVENT
UID:sabre-vobject-b8e59433-3f6b-4458-908d-ba51d36d9cf9
DTSTAMP:20260425T143045Z
SUMMARY:Public Finance Workshop
DESCRIPTION:The MCC brought together international top-researchers in a Pub
 lic Finance Workshop. You can find the documentation of the presentations 
 here.\n\nParticipants included MCC director Ottmar Edenhofer as well as Gi
 lbert Metcalf from Tufts University and Lawrence H. Goulder from Stanford 
 University. Furthermore\, Martin Weitzman from Harvard University also hel
 d a presentation.\n\nIn recent years\, a significant body of work has emer
 ged in climate economics that investigates rationales for carbon pricing b
 eyond that of Pigouvian taxation\, considering the merits of carbon pricin
 g relative to other fiscal options as a means for\, e.g.\, financing publi
 c debt and public spending\, or enhancing dynamic macroeconomic efficiency
 . The aim of the workshop is it not only to advance the academic discussio
 n\, but support the exploration of the relevance of this research for poli
 cymakers seeking policy options that allow reconciling management of long-
 term climate risks with short term concerns over economic growth\, competi
 tiveness\, and other politically relevant factors.\n\nIn this video you wi
 ll see who of the well-respected scientists discussed the specific example
 s of carbon pricing in Europe\, Australia and China. Here you can learn wh
 ich states could how much reduce their debt\, what could be taken from mis
 takes in the past - and how the challenge of international cooperation cou
 ld be overcome.
DTSTART;TZID=Europe/Berlin:20140505T000000
DTEND;TZID=Europe/Berlin:20140506T000000
LOCATION:Torgauer Str. 12-15 \, Berlin (Germany) 
BEGIN:VALARM
ACTION:DISPLAY
DESCRIPTION:Public Finance Workshop
TRIGGER:-PT30M
END:VALARM
END:VEVENT
END:VCALENDAR
