BEGIN:VCALENDAR
VERSION:2.0
PRODID:-//Sabre//Sabre VObject 4.5.8//EN
CALSCALE:GREGORIAN
METHOD:PUBLISH
BEGIN:VEVENT
UID:sabre-vobject-01c95f6a-f424-483d-b60f-6b48decfee26
DTSTAMP:20260424T002850Z
SUMMARY:Basic Income
DESCRIPTION:Chair : Guillaume Balas\, MEP (S&amp\;D) Panellists:Dr Cemal Ka
 rakas\, Policy Analyst\, European Parliamentary Research Services\, Europe
 an ParliamentStanislas Jourdan\, Head of Positive Money Europe\, Former Co
 ordinator of the European Citizens’ Initiative for Basic Income and co-F
 ounder of the French Movement for Basic IncomeSophie Swaton\, University o
 f Lausanne\, Faculty of Geosciences and Environment\, Author of “Pour un
  revenu de transition écologique” (2018)Jeroen Van Ranst\, CSC\, Youth 
 Officer for the Flemish part of BelgiumLudovic Voet\, CSC\, Youth Officer 
 for the French-speaking part of Belgium
DTSTART;TZID=Europe/Berlin:20180918T000000
DTEND;TZID=Europe/Berlin:20180919T000000
LOCATION: \, Brüssel (Belgien) 
BEGIN:VALARM
ACTION:DISPLAY
DESCRIPTION:Basic Income
TRIGGER:-PT30M
END:VALARM
END:VEVENT
END:VCALENDAR
