BEGIN:VCALENDAR
VERSION:2.0
PRODID:-//Sabre//Sabre VObject 4.5.8//EN
CALSCALE:GREGORIAN
METHOD:PUBLISH
BEGIN:VEVENT
UID:sabre-vobject-1d582f7f-228b-44f7-91c6-cac9f776ba17
DTSTAMP:20260424T003054Z
SUMMARY:Vivian Lee - The Long Fix: Solving America's Health Care Crisis wit
 h Strategies that Work for Everyone
DESCRIPTION:In The Long Fix\, physician and health care CEO Vivian S. Lee\,
  MD\, cuts to the heart of the health care crisis. The problem with the wa
 y medicine is practiced\, she explains\, is not so much who's paying\, it'
 s what we are paying for. Insurers\, employers\, the government\, and indi
 viduals pay for every procedure\, prescription\, and lab test\, whether or
  not it makes us better--and that is both backward and dangerous.\n\nVivia
 n S. Lee\, MD\, PhD\, MBA\, has been a practicing physician\, scientist\, 
 and health care administrator for more than two decades. President of Heal
 th Platforms at Verily (Alphabet’s health company)\, she is also a senio
 r lecturer at Harvard Medical School. Formerly\, she was dean of the Unive
 rsity of Utah School of Medicine and CEO of University of Utah Health\, a 
 system recognized for its excellence and innovation in care.
DTSTART;TZID=Europe/Berlin:20200613T150000
DTEND;TZID=Europe/Berlin:20200613T000000
LOCATION:5015 Connecticut Avenue NW \, Washington\, D.C. (United States of 
 America) 
BEGIN:VALARM
ACTION:DISPLAY
DESCRIPTION:Vivian Lee - The Long Fix: Solving America's Health Care Crisis
  with Strategies that Work for Everyone
TRIGGER:-PT30M
END:VALARM
END:VEVENT
END:VCALENDAR
