BEGIN:VCALENDAR
VERSION:2.0
PRODID:-//Sabre//Sabre VObject 4.5.8//EN
CALSCALE:GREGORIAN
METHOD:PUBLISH
BEGIN:VEVENT
UID:sabre-vobject-dc999d89-584a-4501-87f3-cdb9e9b15d59
DTSTAMP:20260424T003231Z
SUMMARY:KOSMOS Opening Lecture
DESCRIPTION:At the venue of the historical Kosmos lectures\, the HU lecture
  series marking the 250th birthday of Alexander von Humboldt will be opene
 d by Federal President Frank-Walter Steinmeier and climate researcher Paul
 o Artaxo. As an environmental physicist\, Artaxo is one of South America
 ’s most prominent scientists. He played a leading role in the 2007 IPCC 
 Climate Change Report\, for which he and his team won the Nobel Peace Priz
 e. With: Prof. Paulo Artaxo\, Universidade de São Paulo\, Brazil Opening 
 by Federal President Frank-Walter Steinmeier  Language: English
DTSTART;TZID=Europe/Berlin:20190406T170000
DTEND;TZID=Europe/Berlin:20190406T183000
LOCATION:Am Festungsgraben 2 \, Berlin (Germany) 
BEGIN:VALARM
ACTION:DISPLAY
DESCRIPTION:KOSMOS Opening Lecture
TRIGGER:-PT30M
END:VALARM
END:VEVENT
END:VCALENDAR
